BEGIN:VCALENDAR
VERSION:2.0
PRODID:Festividades em Honra de S. Sebastião 2026
X-WR-CALNAME:Festividades em Honra de S. Sebastião 2026
X-WR-TIMEZONE:Europe/Lisbon
X-PUBLISHED-TTL:P1W
BEGIN:VTIMEZONE
TZID:Europe/Lisbon
X-LIC-LOCATION:Europe/Lisbon
END:VTIMEZONE
BEGIN:VEVENT
UID:69e742e2ea6d0
DTSTART;VALUE=DATE:20260123
SEQUENCE:0
TRANSP:OPAQUE
DTEND;VALUE=DATE:20260124
SUMMARY:Festividades em Honra de S. Sebastião 2026
CLASS:PUBLIC
DESCRIPTION:Participe nas atividades promovidas pela Comissão de Festas. C
 onsulte o cartaz e venha divertir-se!
X-MICROSOFT-CDO-ALLDAYEVENT:TRUE
DTSTAMP:20260421T092658Z
END:VEVENT
END:VCALENDAR