BEGIN:VCALENDAR
VERSION:2.0
PRODID:Dia Escola Aberta
X-WR-CALNAME:Dia Escola Aberta
X-WR-TIMEZONE:Europe/Lisbon
X-PUBLISHED-TTL:P1W
BEGIN:VTIMEZONE
TZID:Europe/Lisbon
X-LIC-LOCATION:Europe/Lisbon
END:VTIMEZONE
BEGIN:VEVENT
UID:69e741e37b9e0
DTSTART;VALUE=DATE:20260418
SEQUENCE:0
TRANSP:OPAQUE
DTEND;VALUE=DATE:20260419
SUMMARY:Dia Escola Aberta
CLASS:PUBLIC
DESCRIPTION:A Junta de Freguesia de Pereira apoia a iniciativa promovida pe
 la Associação de Pais e Encarregados de Educação de Pereira\, estando 
 presente no Jardim de Infância/Escola Básica no dia da Escola Aberta. Ve
 nha conhecer!
X-MICROSOFT-CDO-ALLDAYEVENT:TRUE
DTSTAMP:20260421T092243Z
END:VEVENT
END:VCALENDAR