BEGIN:VCALENDAR
VERSION:2.0
PRODID:Carnaval Pereira 2026
X-WR-CALNAME:Carnaval Pereira 2026
X-WR-TIMEZONE:Europe/Lisbon
X-PUBLISHED-TTL:P1W
BEGIN:VTIMEZONE
TZID:Europe/Lisbon
X-LIC-LOCATION:Europe/Lisbon
END:VTIMEZONE
BEGIN:VEVENT
UID:69e743a269548
DTSTART;VALUE=DATE:20260217
SEQUENCE:0
TRANSP:OPAQUE
DTEND;VALUE=DATE:20260218
SUMMARY:Carnaval Pereira 2026
CLASS:PUBLIC
DESCRIPTION:Participe no Carnaval mais antigo do concelho!Evento promovido 
 pela Aculdepe - Associação Cultural e Desportiva de Pereira.
X-MICROSOFT-CDO-ALLDAYEVENT:TRUE
DTSTAMP:20260421T093010Z
END:VEVENT
END:VCALENDAR