BEGIN:VCALENDAR
VERSION:2.0
PRODID:Dia do Doente
X-WR-CALNAME:Dia do Doente
X-WR-TIMEZONE:Europe/Lisbon
X-PUBLISHED-TTL:P1W
BEGIN:VTIMEZONE
TZID:Europe/Lisbon
X-LIC-LOCATION:Europe/Lisbon
END:VTIMEZONE
BEGIN:VEVENT
UID:69e74397c058b
DTSTART;VALUE=DATE:20260214
SEQUENCE:0
TRANSP:OPAQUE
DTEND;VALUE=DATE:20260215
SUMMARY:Dia do Doente
CLASS:PUBLIC
DESCRIPTION:Atividade Promovida pelo Apoio Humano de Pereira.
X-MICROSOFT-CDO-ALLDAYEVENT:TRUE
DTSTAMP:20260421T092959Z
END:VEVENT
END:VCALENDAR