BEGIN:VCALENDAR
VERSION:2.0
PRODID:Dia da Mulher - Pequenos Almoços
X-WR-CALNAME:Dia da Mulher - Pequenos Almoços
X-WR-TIMEZONE:Europe/Lisbon
X-PUBLISHED-TTL:P1W
BEGIN:VTIMEZONE
TZID:Europe/Lisbon
X-LIC-LOCATION:Europe/Lisbon
END:VTIMEZONE
BEGIN:VEVENT
UID:69e743697869c
DTSTART;VALUE=DATE:20260308
SEQUENCE:0
TRANSP:OPAQUE
DTEND;VALUE=DATE:20260309
SUMMARY:Dia da Mulher - Pequenos Almoços
CLASS:PUBLIC
DESCRIPTION:Evento promovido pelas Festividades de S. Sebastião 2027.
X-MICROSOFT-CDO-ALLDAYEVENT:TRUE
DTSTAMP:20260421T092913Z
END:VEVENT
END:VCALENDAR